BEGIN:VCALENDAR
VERSION:2.0
PRODID:-//Office of State Examiner - ECPv6.15.17.1//NONSGML v1.0//EN
CALSCALE:GREGORIAN
METHOD:PUBLISH
X-WR-CALNAME:Office of State Examiner
X-ORIGINAL-URL:https://ose.louisiana.gov
X-WR-CALDESC:Events for Office of State Examiner
REFRESH-INTERVAL;VALUE=DURATION:PT1H
X-Robots-Tag:noindex
X-PUBLISHED-TTL:PT1H
BEGIN:VTIMEZONE
TZID:America/Chicago
BEGIN:DAYLIGHT
TZOFFSETFROM:-0600
TZOFFSETTO:-0500
TZNAME:CDT
DTSTART:20240310T080000
END:DAYLIGHT
BEGIN:STANDARD
TZOFFSETFROM:-0500
TZOFFSETTO:-0600
TZNAME:CST
DTSTART:20241103T070000
END:STANDARD
BEGIN:DAYLIGHT
TZOFFSETFROM:-0600
TZOFFSETTO:-0500
TZNAME:CDT
DTSTART:20250309T080000
END:DAYLIGHT
BEGIN:STANDARD
TZOFFSETFROM:-0500
TZOFFSETTO:-0600
TZNAME:CST
DTSTART:20251102T070000
END:STANDARD
BEGIN:DAYLIGHT
TZOFFSETFROM:-0600
TZOFFSETTO:-0500
TZNAME:CDT
DTSTART:20260308T080000
END:DAYLIGHT
BEGIN:STANDARD
TZOFFSETFROM:-0500
TZOFFSETTO:-0600
TZNAME:CST
DTSTART:20261101T070000
END:STANDARD
END:VTIMEZONE
BEGIN:VEVENT
DTSTART;TZID=America/Chicago:20251205T235900
DTEND;TZID=America/Chicago:20251205T235900
DTSTAMP:20260424T202922
CREATED:20251119T060041Z
LAST-MODIFIED:20251112T160305Z
UID:6932-1764979140-1764979140@ose.louisiana.gov
SUMMARY:Fire Captain
DESCRIPTION:
URL:https://ose.louisiana.gov/event/fire-captain-260/
END:VEVENT
BEGIN:VEVENT
DTSTART;TZID=America/Chicago:20251205T235900
DTEND;TZID=America/Chicago:20251205T235900
DTSTAMP:20260424T202922
CREATED:20251119T060036Z
LAST-MODIFIED:20251112T162534Z
UID:6935-1764979140-1764979140@ose.louisiana.gov
SUMMARY:Police Sergeant
DESCRIPTION:
URL:https://ose.louisiana.gov/event/police-sergeant-188/
END:VEVENT
BEGIN:VEVENT
DTSTART;TZID=America/Chicago:20251205T235900
DTEND;TZID=America/Chicago:20251205T235900
DTSTAMP:20260424T202922
CREATED:20251119T060035Z
LAST-MODIFIED:20251112T163432Z
UID:6939-1764979140-1764979140@ose.louisiana.gov
SUMMARY:Chief of Fire Prevention
DESCRIPTION:
URL:https://ose.louisiana.gov/event/chief-of-fire-prevention-40/
END:VEVENT
BEGIN:VEVENT
DTSTART;TZID=America/Chicago:20251205T235900
DTEND;TZID=America/Chicago:20251205T235900
DTSTAMP:20260424T202922
CREATED:20251119T060030Z
LAST-MODIFIED:20251112T163329Z
UID:6938-1764979140-1764979140@ose.louisiana.gov
SUMMARY:Chief of Training
DESCRIPTION:
URL:https://ose.louisiana.gov/event/chief-of-training-14/
END:VEVENT
BEGIN:VEVENT
DTSTART;TZID=America/Chicago:20251205T235900
DTEND;TZID=America/Chicago:20251205T235900
DTSTAMP:20260424T202922
CREATED:20251119T060024Z
LAST-MODIFIED:20251112T164916Z
UID:6944-1764979140-1764979140@ose.louisiana.gov
SUMMARY:Jailer II
DESCRIPTION:
URL:https://ose.louisiana.gov/event/jailer-ii-9/
END:VEVENT
BEGIN:VEVENT
DTSTART;TZID=America/Chicago:20251205T235900
DTEND;TZID=America/Chicago:20251205T235900
DTSTAMP:20260424T202922
CREATED:20251119T060009Z
LAST-MODIFIED:20251112T161358Z
UID:6933-1764979140-1764979140@ose.louisiana.gov
SUMMARY:Firefighter First Class
DESCRIPTION:
URL:https://ose.louisiana.gov/event/firefighter-first-class-47/
END:VEVENT
BEGIN:VEVENT
DTSTART;TZID=America/Chicago:20251205T235900
DTEND;TZID=America/Chicago:20251205T235900
DTSTAMP:20260424T202922
CREATED:20251119T060007Z
LAST-MODIFIED:20251112T162936Z
UID:6937-1764979140-1764979140@ose.louisiana.gov
SUMMARY:Assistant Police Chief
DESCRIPTION:
URL:https://ose.louisiana.gov/event/assistant-police-chief-43/
END:VEVENT
BEGIN:VEVENT
DTSTART;TZID=America/Chicago:20251205T235900
DTEND;TZID=America/Chicago:20251205T235900
DTSTAMP:20260424T202922
CREATED:20251119T060001Z
LAST-MODIFIED:20251112T161933Z
UID:6934-1764979140-1764979140@ose.louisiana.gov
SUMMARY:Operator
DESCRIPTION:
URL:https://ose.louisiana.gov/event/operator-29/
END:VEVENT
BEGIN:VEVENT
DTSTART;TZID=America/Chicago:20251205T113000
DTEND;TZID=America/Chicago:20251205T113000
DTSTAMP:20260424T202922
CREATED:20251125T060044Z
LAST-MODIFIED:20251121T204718Z
UID:6979-1764934200-1764934200@ose.louisiana.gov
SUMMARY:Fire Captain
DESCRIPTION:
URL:https://ose.louisiana.gov/event/fire-captain-264/
END:VEVENT
BEGIN:VEVENT
DTSTART;TZID=America/Chicago:20251203T235900
DTEND;TZID=America/Chicago:20251203T235900
DTSTAMP:20260424T202922
CREATED:20251124T060040Z
LAST-MODIFIED:20251112T202220Z
UID:6948-1764806340-1764806340@ose.louisiana.gov
SUMMARY:Police Sergeant
DESCRIPTION:
URL:https://ose.louisiana.gov/event/police-sergeant-189/
END:VEVENT
BEGIN:VEVENT
DTSTART;TZID=America/Chicago:20251203T150000
DTEND;TZID=America/Chicago:20251203T150000
DTSTAMP:20260424T202922
CREATED:20251120T151122Z
LAST-MODIFIED:20251120T151122Z
UID:6973-1764774000-1764774000@ose.louisiana.gov
SUMMARY:Fire Captain
DESCRIPTION:
URL:https://ose.louisiana.gov/event/fire-captain-263/
END:VEVENT
BEGIN:VEVENT
DTSTART;TZID=America/Chicago:20251203T150000
DTEND;TZID=America/Chicago:20251203T150000
DTSTAMP:20260424T202922
CREATED:20251120T151034Z
LAST-MODIFIED:20251120T151034Z
UID:6972-1764774000-1764774000@ose.louisiana.gov
SUMMARY:Fire Lieutenant
DESCRIPTION:
URL:https://ose.louisiana.gov/event/fire-lieutenant-39/
END:VEVENT
BEGIN:VEVENT
DTSTART;TZID=America/Chicago:20251202T235900
DTEND;TZID=America/Chicago:20251202T235900
DTSTAMP:20260424T202922
CREATED:20251029T050033Z
LAST-MODIFIED:20251009T155556Z
UID:6861-1764719940-1764719940@ose.louisiana.gov
SUMMARY:Fire Chauffeur
DESCRIPTION:
URL:https://ose.louisiana.gov/event/fire-chauffeur-5/
END:VEVENT
BEGIN:VEVENT
DTSTART;TZID=America/Chicago:20251201T235900
DTEND;TZID=America/Chicago:20251201T235900
DTSTAMP:20260424T202922
CREATED:20251113T160253Z
LAST-MODIFIED:20251113T160253Z
UID:6951-1764633540-1764633540@ose.louisiana.gov
SUMMARY:Deputy Chief of Police
DESCRIPTION:
URL:https://ose.louisiana.gov/event/deputy-chief-of-police-23/
END:VEVENT
BEGIN:VEVENT
DTSTART;TZID=America/Chicago:20251127T235900
DTEND;TZID=America/Chicago:20251127T235900
DTSTAMP:20260424T202922
CREATED:20251117T203015Z
LAST-MODIFIED:20251117T203138Z
UID:6964-1764287940-1764287940@ose.louisiana.gov
SUMMARY:Deputy Fire Chief
DESCRIPTION:
URL:https://ose.louisiana.gov/event/deputy-fire-chief-66/
END:VEVENT
BEGIN:VEVENT
DTSTART;TZID=America/Chicago:20251127T235900
DTEND;TZID=America/Chicago:20251127T235900
DTSTAMP:20260424T202922
CREATED:20251117T202925Z
LAST-MODIFIED:20251117T202925Z
UID:6963-1764287940-1764287940@ose.louisiana.gov
SUMMARY:Fire Captain
DESCRIPTION:
URL:https://ose.louisiana.gov/event/fire-captain-262/
END:VEVENT
BEGIN:VEVENT
DTSTART;TZID=America/Chicago:20251124T160000
DTEND;TZID=America/Chicago:20251124T160000
DTSTAMP:20260424T202922
CREATED:20251114T060019Z
LAST-MODIFIED:20251030T194826Z
UID:6902-1764000000-1764000000@ose.louisiana.gov
SUMMARY:Police Sergeant
DESCRIPTION:
URL:https://ose.louisiana.gov/event/police-sergeant-186/
END:VEVENT
BEGIN:VEVENT
DTSTART;TZID=America/Chicago:20251124T160000
DTEND;TZID=America/Chicago:20251124T160000
DTSTAMP:20260424T202922
CREATED:20251113T160457Z
LAST-MODIFIED:20251113T160457Z
UID:6953-1764000000-1764000000@ose.louisiana.gov
SUMMARY:Supervisor of Emergency Medical Services
DESCRIPTION:
URL:https://ose.louisiana.gov/event/supervisor-of-emergency-medical-services/
END:VEVENT
BEGIN:VEVENT
DTSTART;TZID=America/Chicago:20251124T160000
DTEND;TZID=America/Chicago:20251124T160000
DTSTAMP:20260424T202922
CREATED:20251113T160357Z
LAST-MODIFIED:20251113T160357Z
UID:6952-1764000000-1764000000@ose.louisiana.gov
SUMMARY:Emergency Medical Technician
DESCRIPTION:
URL:https://ose.louisiana.gov/event/emergency-medical-technician-5/
END:VEVENT
BEGIN:VEVENT
DTSTART;TZID=America/Chicago:20251121T235900
DTEND;TZID=America/Chicago:20251121T235900
DTSTAMP:20260424T202922
CREATED:20251104T060008Z
LAST-MODIFIED:20251103T143953Z
UID:6905-1763769540-1763769540@ose.louisiana.gov
SUMMARY:Assistant Chief of Fire Prevention
DESCRIPTION:
URL:https://ose.louisiana.gov/event/assistant-chief-of-fire-prevention-15/
END:VEVENT
BEGIN:VEVENT
DTSTART;TZID=America/Chicago:20251121T163000
DTEND;TZID=America/Chicago:20251121T163000
DTSTAMP:20260424T202922
CREATED:20251105T150024Z
LAST-MODIFIED:20251105T150024Z
UID:6920-1763742600-1763742600@ose.louisiana.gov
SUMMARY:Chief of Special Services
DESCRIPTION:
URL:https://ose.louisiana.gov/event/chief-of-special-services-5/
END:VEVENT
BEGIN:VEVENT
DTSTART;TZID=America/Chicago:20251121T163000
DTEND;TZID=America/Chicago:20251121T163000
DTSTAMP:20260424T202922
CREATED:20251105T145940Z
LAST-MODIFIED:20251105T145940Z
UID:6919-1763742600-1763742600@ose.louisiana.gov
SUMMARY:Chief Fire Investigator
DESCRIPTION:
URL:https://ose.louisiana.gov/event/chief-fire-investigator-5/
END:VEVENT
BEGIN:VEVENT
DTSTART;TZID=America/Chicago:20251121T163000
DTEND;TZID=America/Chicago:20251121T163000
DTSTAMP:20260424T202922
CREATED:20251105T145856Z
LAST-MODIFIED:20251105T145856Z
UID:6918-1763742600-1763742600@ose.louisiana.gov
SUMMARY:Training Officer
DESCRIPTION:
URL:https://ose.louisiana.gov/event/training-officer-18/
END:VEVENT
BEGIN:VEVENT
DTSTART;TZID=America/Chicago:20251121T163000
DTEND;TZID=America/Chicago:20251121T163000
DTSTAMP:20260424T202922
CREATED:20251103T210357Z
LAST-MODIFIED:20251103T210357Z
UID:6914-1763742600-1763742600@ose.louisiana.gov
SUMMARY:Police Communications Supervisor
DESCRIPTION:
URL:https://ose.louisiana.gov/event/police-communications-supervisor-12/
END:VEVENT
BEGIN:VEVENT
DTSTART;TZID=America/Chicago:20251121T163000
DTEND;TZID=America/Chicago:20251121T163000
DTSTAMP:20260424T202922
CREATED:20251103T210315Z
LAST-MODIFIED:20251103T210315Z
UID:6913-1763742600-1763742600@ose.louisiana.gov
SUMMARY:Assistant Chief Fire Communications Officer
DESCRIPTION:
URL:https://ose.louisiana.gov/event/assistant-chief-fire-communications-officer-3/
END:VEVENT
BEGIN:VEVENT
DTSTART;TZID=America/Chicago:20251121T163000
DTEND;TZID=America/Chicago:20251121T163000
DTSTAMP:20260424T202922
CREATED:20251103T210222Z
LAST-MODIFIED:20251103T210222Z
UID:6912-1763742600-1763742600@ose.louisiana.gov
SUMMARY:Chief Fire Communications Officer
DESCRIPTION:
URL:https://ose.louisiana.gov/event/chief-fire-communications-officer-9/
END:VEVENT
BEGIN:VEVENT
DTSTART;TZID=America/Chicago:20251121T163000
DTEND;TZID=America/Chicago:20251121T163000
DTSTAMP:20260424T202922
CREATED:20251103T210131Z
LAST-MODIFIED:20251103T210131Z
UID:6911-1763742600-1763742600@ose.louisiana.gov
SUMMARY:Assistant Chief Training Officer
DESCRIPTION:
URL:https://ose.louisiana.gov/event/assistant-chief-training-officer-7/
END:VEVENT
BEGIN:VEVENT
DTSTART;TZID=America/Chicago:20251121T163000
DTEND;TZID=America/Chicago:20251121T163000
DTSTAMP:20260424T202922
CREATED:20251103T210042Z
LAST-MODIFIED:20251103T210042Z
UID:6910-1763742600-1763742600@ose.louisiana.gov
SUMMARY:Chief Training Officer
DESCRIPTION:
URL:https://ose.louisiana.gov/event/chief-training-officer-8/
END:VEVENT
BEGIN:VEVENT
DTSTART;TZID=America/Chicago:20251121T150000
DTEND;TZID=America/Chicago:20251121T150000
DTSTAMP:20260424T202922
CREATED:20251017T193447Z
LAST-MODIFIED:20251017T193447Z
UID:6891-1763737200-1763737200@ose.louisiana.gov
SUMMARY:District Fire Chief
DESCRIPTION:
URL:https://ose.louisiana.gov/event/district-fire-chief-86/
END:VEVENT
BEGIN:VEVENT
DTSTART;TZID=America/Chicago:20251121T150000
DTEND;TZID=America/Chicago:20251121T150000
DTSTAMP:20260424T202922
CREATED:20251017T193406Z
LAST-MODIFIED:20251017T193406Z
UID:6890-1763737200-1763737200@ose.louisiana.gov
SUMMARY:Fire Captain
DESCRIPTION:
URL:https://ose.louisiana.gov/event/fire-captain-255/
END:VEVENT
END:VCALENDAR