BEGIN:VCALENDAR
VERSION:2.0
PRODID:-//Office of State Examiner - ECPv6.15.17.1//NONSGML v1.0//EN
CALSCALE:GREGORIAN
METHOD:PUBLISH
X-WR-CALNAME:Office of State Examiner
X-ORIGINAL-URL:https://ose.louisiana.gov
X-WR-CALDESC:Events for Office of State Examiner
REFRESH-INTERVAL;VALUE=DURATION:PT1H
X-Robots-Tag:noindex
X-PUBLISHED-TTL:PT1H
BEGIN:VTIMEZONE
TZID:America/Chicago
BEGIN:DAYLIGHT
TZOFFSETFROM:-0600
TZOFFSETTO:-0500
TZNAME:CDT
DTSTART:20250309T080000
END:DAYLIGHT
BEGIN:STANDARD
TZOFFSETFROM:-0500
TZOFFSETTO:-0600
TZNAME:CST
DTSTART:20251102T070000
END:STANDARD
BEGIN:DAYLIGHT
TZOFFSETFROM:-0600
TZOFFSETTO:-0500
TZNAME:CDT
DTSTART:20260308T080000
END:DAYLIGHT
BEGIN:STANDARD
TZOFFSETFROM:-0500
TZOFFSETTO:-0600
TZNAME:CST
DTSTART:20261101T070000
END:STANDARD
BEGIN:DAYLIGHT
TZOFFSETFROM:-0600
TZOFFSETTO:-0500
TZNAME:CDT
DTSTART:20270314T080000
END:DAYLIGHT
BEGIN:STANDARD
TZOFFSETFROM:-0500
TZOFFSETTO:-0600
TZNAME:CST
DTSTART:20271107T070000
END:STANDARD
END:VTIMEZONE
BEGIN:VEVENT
DTSTART;TZID=America/Chicago:20260409T235900
DTEND;TZID=America/Chicago:20260506T235900
DTSTAMP:20260419T072655
CREATED:20260313T160030Z
LAST-MODIFIED:20260313T160030Z
UID:7223-1775779140-1778111940@ose.louisiana.gov
SUMMARY:Chief of Training and Emergency Medical Services
DESCRIPTION:
URL:https://ose.louisiana.gov/event/chief-of-training-and-emergency-medical-services-2/
END:VEVENT
BEGIN:VEVENT
DTSTART;TZID=America/Chicago:20260420T170000
DTEND;TZID=America/Chicago:20260420T170000
DTSTAMP:20260419T072655
CREATED:20260407T050007Z
LAST-MODIFIED:20260406T150209Z
UID:7287-1776704400-1776704400@ose.louisiana.gov
SUMMARY:Fire Captain
DESCRIPTION:
URL:https://ose.louisiana.gov/event/fire-captain-10/
END:VEVENT
BEGIN:VEVENT
DTSTART;TZID=America/Chicago:20260420T235900
DTEND;TZID=America/Chicago:20260420T235900
DTSTAMP:20260419T072655
CREATED:20260406T145645Z
LAST-MODIFIED:20260406T145645Z
UID:7286-1776729540-1776729540@ose.louisiana.gov
SUMMARY:Deputy Fire Chief
DESCRIPTION:
URL:https://ose.louisiana.gov/event/deputy-fire-chief-3/
END:VEVENT
BEGIN:VEVENT
DTSTART;TZID=America/Chicago:20260421T170000
DTEND;TZID=America/Chicago:20260421T170000
DTSTAMP:20260419T072655
CREATED:20260408T202735Z
LAST-MODIFIED:20260408T202735Z
UID:7300-1776790800-1776790800@ose.louisiana.gov
SUMMARY:Fire Engineer
DESCRIPTION:
URL:https://ose.louisiana.gov/event/fire-engineer-2/
END:VEVENT
BEGIN:VEVENT
DTSTART;TZID=America/Chicago:20260421T170000
DTEND;TZID=America/Chicago:20260421T170000
DTSTAMP:20260419T072655
CREATED:20260408T202833Z
LAST-MODIFIED:20260408T202833Z
UID:7301-1776790800-1776790800@ose.louisiana.gov
SUMMARY:Fire Training Officer
DESCRIPTION:
URL:https://ose.louisiana.gov/event/fire-training-officer-3/
END:VEVENT
BEGIN:VEVENT
DTSTART;TZID=America/Chicago:20260424T160000
DTEND;TZID=America/Chicago:20260424T160000
DTSTAMP:20260419T072655
CREATED:20260409T205306Z
LAST-MODIFIED:20260409T205306Z
UID:7303-1777046400-1777046400@ose.louisiana.gov
SUMMARY:Fire Equipment Operator
DESCRIPTION:
URL:https://ose.louisiana.gov/event/fire-equipment-operator-3/
END:VEVENT
BEGIN:VEVENT
DTSTART;TZID=America/Chicago:20260424T160000
DTEND;TZID=America/Chicago:20260424T160000
DTSTAMP:20260419T072655
CREATED:20260409T205352Z
LAST-MODIFIED:20260409T205352Z
UID:7304-1777046400-1777046400@ose.louisiana.gov
SUMMARY:Police Lieutenant
DESCRIPTION:
URL:https://ose.louisiana.gov/event/police-lieutenant-7/
END:VEVENT
BEGIN:VEVENT
DTSTART;TZID=America/Chicago:20260424T160000
DTEND;TZID=America/Chicago:20260424T160000
DTSTAMP:20260419T072655
CREATED:20260409T205521Z
LAST-MODIFIED:20260409T205521Z
UID:7305-1777046400-1777046400@ose.louisiana.gov
SUMMARY:Police Supply Officer
DESCRIPTION:
URL:https://ose.louisiana.gov/event/police-supply-officer-11/
END:VEVENT
BEGIN:VEVENT
DTSTART;TZID=America/Chicago:20260424T235900
DTEND;TZID=America/Chicago:20260424T235900
DTSTAMP:20260419T072655
CREATED:20260407T145648Z
LAST-MODIFIED:20260407T145648Z
UID:7290-1777075140-1777075140@ose.louisiana.gov
SUMMARY:Fire Training Officer
DESCRIPTION:
URL:https://ose.louisiana.gov/event/fire-training-officer-2/
END:VEVENT
BEGIN:VEVENT
DTSTART;TZID=America/Chicago:20260424T235900
DTEND;TZID=America/Chicago:20260424T235900
DTSTAMP:20260419T072655
CREATED:20260407T145746Z
LAST-MODIFIED:20260407T145746Z
UID:7291-1777075140-1777075140@ose.louisiana.gov
SUMMARY:Chief of Administration
DESCRIPTION:
URL:https://ose.louisiana.gov/event/chief-of-administration-17/
END:VEVENT
BEGIN:VEVENT
DTSTART;TZID=America/Chicago:20260424T235900
DTEND;TZID=America/Chicago:20260424T235900
DTSTAMP:20260419T072655
CREATED:20260407T145833Z
LAST-MODIFIED:20260407T145833Z
UID:7292-1777075140-1777075140@ose.louisiana.gov
SUMMARY:Fire Chief
DESCRIPTION:
URL:https://ose.louisiana.gov/event/fire-chief-3/
END:VEVENT
BEGIN:VEVENT
DTSTART;TZID=America/Chicago:20260424T235900
DTEND;TZID=America/Chicago:20260424T235900
DTSTAMP:20260419T072655
CREATED:20260408T134657Z
LAST-MODIFIED:20260408T134657Z
UID:7293-1777075140-1777075140@ose.louisiana.gov
SUMMARY:Chief of Fire Prevention
DESCRIPTION:
URL:https://ose.louisiana.gov/event/chief-of-fire-prevention-2/
END:VEVENT
BEGIN:VEVENT
DTSTART;TZID=America/Chicago:20260424T235900
DTEND;TZID=America/Chicago:20260424T235900
DTSTAMP:20260419T072655
CREATED:20260408T134809Z
LAST-MODIFIED:20260408T134809Z
UID:7294-1777075140-1777075140@ose.louisiana.gov
SUMMARY:Fire Communications Supervisor
DESCRIPTION:
URL:https://ose.louisiana.gov/event/fire-communications-supervisor-17/
END:VEVENT
BEGIN:VEVENT
DTSTART;TZID=America/Chicago:20260424T235900
DTEND;TZID=America/Chicago:20260424T235900
DTSTAMP:20260419T072655
CREATED:20260408T135102Z
LAST-MODIFIED:20260408T135102Z
UID:7295-1777075140-1777075140@ose.louisiana.gov
SUMMARY:Fire Driver
DESCRIPTION:
URL:https://ose.louisiana.gov/event/fire-driver/
END:VEVENT
BEGIN:VEVENT
DTSTART;TZID=America/Chicago:20260424T235900
DTEND;TZID=America/Chicago:20260424T235900
DTSTAMP:20260419T072655
CREATED:20260408T135149Z
LAST-MODIFIED:20260408T135149Z
UID:7296-1777075140-1777075140@ose.louisiana.gov
SUMMARY:Fire Captain
DESCRIPTION:
URL:https://ose.louisiana.gov/event/fire-captain-11/
END:VEVENT
BEGIN:VEVENT
DTSTART;TZID=America/Chicago:20260424T235900
DTEND;TZID=America/Chicago:20260424T235900
DTSTAMP:20260419T072655
CREATED:20260408T135232Z
LAST-MODIFIED:20260408T135232Z
UID:7297-1777075140-1777075140@ose.louisiana.gov
SUMMARY:District Fire Chief
DESCRIPTION:
URL:https://ose.louisiana.gov/event/district-fire-chief-2/
END:VEVENT
BEGIN:VEVENT
DTSTART;TZID=America/Chicago:20260424T235900
DTEND;TZID=America/Chicago:20260424T235900
DTSTAMP:20260419T072655
CREATED:20260408T135315Z
LAST-MODIFIED:20260408T135315Z
UID:7298-1777075140-1777075140@ose.louisiana.gov
SUMMARY:Assistant Fire Chief
DESCRIPTION:
URL:https://ose.louisiana.gov/event/assistant-fire-chief-4/
END:VEVENT
BEGIN:VEVENT
DTSTART;TZID=America/Chicago:20260429T235900
DTEND;TZID=America/Chicago:20260429T235900
DTSTAMP:20260419T072655
CREATED:20260413T050057Z
LAST-MODIFIED:20260410T194902Z
UID:7311-1777507140-1777507140@ose.louisiana.gov
SUMMARY:District Fire Chief
DESCRIPTION:
URL:https://ose.louisiana.gov/event/district-fire-chief-3/
END:VEVENT
BEGIN:VEVENT
DTSTART;TZID=America/Chicago:20260430T160000
DTEND;TZID=America/Chicago:20260430T160000
DTSTAMP:20260419T072655
CREATED:20260409T205707Z
LAST-MODIFIED:20260409T205707Z
UID:7307-1777564800-1777564800@ose.louisiana.gov
SUMMARY:Differential Response Officer
DESCRIPTION:
URL:https://ose.louisiana.gov/event/differential-response-officer-6/
END:VEVENT
END:VCALENDAR