BEGIN:VCALENDAR
VERSION:2.0
PRODID:-//Office of State Examiner - ECPv4.9.8//NONSGML v1.0//EN
CALSCALE:GREGORIAN
METHOD:PUBLISH
X-WR-CALNAME:Office of State Examiner
X-ORIGINAL-URL:https://ose.louisiana.gov
X-WR-CALDESC:Events for Office of State Examiner
BEGIN:VTIMEZONE
TZID:America/Chicago
BEGIN:DAYLIGHT
TZOFFSETFROM:-0600
TZOFFSETTO:-0500
TZNAME:CDT
DTSTART:20210314T080000
END:DAYLIGHT
BEGIN:STANDARD
TZOFFSETFROM:-0500
TZOFFSETTO:-0600
TZNAME:CST
DTSTART:20211107T070000
END:STANDARD
END:VTIMEZONE
BEGIN:VEVENT
DTSTART;TZID="America/Chicago":20210722T160000
DTEND;TZID="America/Chicago":20210722T160000
DTSTAMP:20210923T222606
CREATED:20210709T141309Z
LAST-MODIFIED:20210709T141309Z
UID:3014-1626969600-1626969600@ose.louisiana.gov
SUMMARY:Fire Prevention Officer
DESCRIPTION:
URL:https://ose.louisiana.gov/event/fire-prevention-officer-11/
END:VEVENT
BEGIN:VEVENT
DTSTART;TZID="America/Chicago":20210722T160000
DTEND;TZID="America/Chicago":20210722T160000
DTSTAMP:20210923T222606
CREATED:20210709T141401Z
LAST-MODIFIED:20210709T141401Z
UID:3015-1626969600-1626969600@ose.louisiana.gov
SUMMARY:Jailer
DESCRIPTION:
URL:https://ose.louisiana.gov/event/jailer-13/
END:VEVENT
BEGIN:VEVENT
DTSTART;TZID="America/Chicago":20210722T160000
DTEND;TZID="America/Chicago":20210722T160000
DTSTAMP:20210923T222606
CREATED:20210713T050038Z
LAST-MODIFIED:20210712T182238Z
UID:3019-1626969600-1626969600@ose.louisiana.gov
SUMMARY:Fire Captain
DESCRIPTION:
URL:https://ose.louisiana.gov/event/fire-captain-66/
END:VEVENT
BEGIN:VEVENT
DTSTART;TZID="America/Chicago":20210722T160000
DTEND;TZID="America/Chicago":20210722T160000
DTSTAMP:20210923T222606
CREATED:20210713T050041Z
LAST-MODIFIED:20210712T182343Z
UID:3020-1626969600-1626969600@ose.louisiana.gov
SUMMARY:Police Corporal
DESCRIPTION:
URL:https://ose.louisiana.gov/event/police-corporal-15/
END:VEVENT
BEGIN:VEVENT
DTSTART;TZID="America/Chicago":20210722T160000
DTEND;TZID="America/Chicago":20210722T160000
DTSTAMP:20210923T222606
CREATED:20210713T050047Z
LAST-MODIFIED:20210712T182447Z
UID:3021-1626969600-1626969600@ose.louisiana.gov
SUMMARY:Police Sergeant
DESCRIPTION:
URL:https://ose.louisiana.gov/event/police-sergeant-45/
END:VEVENT
BEGIN:VEVENT
DTSTART;TZID="America/Chicago":20210722T160000
DTEND;TZID="America/Chicago":20210722T160000
DTSTAMP:20210923T222606
CREATED:20210713T050050Z
LAST-MODIFIED:20210712T182549Z
UID:3022-1626969600-1626969600@ose.louisiana.gov
SUMMARY:Police Lieutenant
DESCRIPTION:
URL:https://ose.louisiana.gov/event/police-lieutenant-36/
END:VEVENT
BEGIN:VEVENT
DTSTART;TZID="America/Chicago":20210722T235900
DTEND;TZID="America/Chicago":20210722T235900
DTSTAMP:20210923T222606
CREATED:20210714T134859Z
LAST-MODIFIED:20210714T134859Z
UID:3029-1626998340-1626998340@ose.louisiana.gov
SUMMARY:Police Communications Officer
DESCRIPTION:
URL:https://ose.louisiana.gov/event/police-communications-officer-36/
END:VEVENT
END:VCALENDAR