BEGIN:VCALENDAR
VERSION:2.0
PRODID:-//Office of State Examiner - ECPv4.9.8//NONSGML v1.0//EN
CALSCALE:GREGORIAN
METHOD:PUBLISH
X-WR-CALNAME:Office of State Examiner
X-ORIGINAL-URL:https://ose.louisiana.gov
X-WR-CALDESC:Events for Office of State Examiner
BEGIN:VTIMEZONE
TZID:America/Chicago
BEGIN:DAYLIGHT
TZOFFSETFROM:-0600
TZOFFSETTO:-0500
TZNAME:CDT
DTSTART:20210314T080000
END:DAYLIGHT
BEGIN:STANDARD
TZOFFSETFROM:-0500
TZOFFSETTO:-0600
TZNAME:CST
DTSTART:20211107T070000
END:STANDARD
END:VTIMEZONE
BEGIN:VEVENT
DTSTART;TZID="America/Chicago":20210706T153000
DTEND;TZID="America/Chicago":20210706T153000
DTSTAMP:20210923T222551
CREATED:20210611T134312Z
LAST-MODIFIED:20210611T134312Z
UID:2956-1625585400-1625585400@ose.louisiana.gov
SUMMARY:Firefighter First Class
DESCRIPTION:
URL:https://ose.louisiana.gov/event/firefighter-first-class-11/
END:VEVENT
BEGIN:VEVENT
DTSTART;TZID="America/Chicago":20210706T233000
DTEND;TZID="America/Chicago":20210706T233000
DTSTAMP:20210923T222551
CREATED:20210521T050049Z
LAST-MODIFIED:20210624T205327Z
UID:2893-1625614200-1625614200@ose.louisiana.gov
SUMMARY:Police Vehicle Technician I
DESCRIPTION:
URL:https://ose.louisiana.gov/event/police-vehicle-technician-i/
END:VEVENT
BEGIN:VEVENT
DTSTART;TZID="America/Chicago":20210706T233000
DTEND;TZID="America/Chicago":20210706T233000
DTSTAMP:20210923T222551
CREATED:20210521T050054Z
LAST-MODIFIED:20210624T205343Z
UID:2895-1625614200-1625614200@ose.louisiana.gov
SUMMARY:Deputy Fire Chief
DESCRIPTION:
URL:https://ose.louisiana.gov/event/deputy-fire-chief-13/
END:VEVENT
BEGIN:VEVENT
DTSTART;TZID="America/Chicago":20210706T233000
DTEND;TZID="America/Chicago":20210706T233000
DTSTAMP:20210923T222551
CREATED:20210521T050058Z
LAST-MODIFIED:20210624T205301Z
UID:2898-1625614200-1625614200@ose.louisiana.gov
SUMMARY:Assistant Fire Chief
DESCRIPTION:
URL:https://ose.louisiana.gov/event/assistant-fire-chief-28/
END:VEVENT
BEGIN:VEVENT
DTSTART;TZID="America/Chicago":20210706T233000
DTEND;TZID="America/Chicago":20210706T233000
DTSTAMP:20210923T222551
CREATED:20210521T050059Z
LAST-MODIFIED:20210624T205214Z
UID:2899-1625614200-1625614200@ose.louisiana.gov
SUMMARY:Assistant Chief Training Officer
DESCRIPTION:
URL:https://ose.louisiana.gov/event/assistant-chief-training-officer-2/
END:VEVENT
BEGIN:VEVENT
DTSTART;TZID="America/Chicago":20210706T233000
DTEND;TZID="America/Chicago":20210706T233000
DTSTAMP:20210923T222551
CREATED:20210624T205101Z
LAST-MODIFIED:20210624T205101Z
UID:2988-1625614200-1625614200@ose.louisiana.gov
SUMMARY:Fire Prevention Officer
DESCRIPTION:
URL:https://ose.louisiana.gov/event/fire-prevention-officer-10/
END:VEVENT
BEGIN:VEVENT
DTSTART;TZID="America/Chicago":20210706T235900
DTEND;TZID="America/Chicago":20210706T235900
DTSTAMP:20210923T222551
CREATED:20210625T155641Z
LAST-MODIFIED:20210625T155641Z
UID:2994-1625615940-1625615940@ose.louisiana.gov
SUMMARY:Fire Training and Safety Officer
DESCRIPTION:
URL:https://ose.louisiana.gov/event/fire-training-and-safety-officer-9/
END:VEVENT
BEGIN:VEVENT
DTSTART;TZID="America/Chicago":20210706T235900
DTEND;TZID="America/Chicago":20210706T235900
DTSTAMP:20210923T222551
CREATED:20210625T155806Z
LAST-MODIFIED:20210625T155806Z
UID:2995-1625615940-1625615940@ose.louisiana.gov
SUMMARY:Police Communications Officer
DESCRIPTION:
URL:https://ose.louisiana.gov/event/police-communications-officer-32/
END:VEVENT
END:VCALENDAR