BEGIN:VCALENDAR
VERSION:2.0
PRODID:-//Office of State Examiner - ECPv4.9.8//NONSGML v1.0//EN
CALSCALE:GREGORIAN
METHOD:PUBLISH
X-WR-CALNAME:Office of State Examiner
X-ORIGINAL-URL:https://ose.louisiana.gov
X-WR-CALDESC:Events for Office of State Examiner
BEGIN:VTIMEZONE
TZID:America/Chicago
BEGIN:DAYLIGHT
TZOFFSETFROM:-0600
TZOFFSETTO:-0500
TZNAME:CDT
DTSTART:20210314T080000
END:DAYLIGHT
BEGIN:STANDARD
TZOFFSETFROM:-0500
TZOFFSETTO:-0600
TZNAME:CST
DTSTART:20211107T070000
END:STANDARD
END:VTIMEZONE
BEGIN:VEVENT
DTSTART;TZID="America/Chicago":20210413T235900
DTEND;TZID="America/Chicago":20210413T235900
DTSTAMP:20210501T112950
CREATED:20210325T155938Z
LAST-MODIFIED:20210325T155938Z
UID:2764-1618358340-1618358340@ose.louisiana.gov
SUMMARY:Fire Chief
DESCRIPTION:
URL:https://ose.louisiana.gov/event/fire-chief-13/
END:VEVENT
BEGIN:VEVENT
DTSTART;TZID="America/Chicago":20210413T235900
DTEND;TZID="America/Chicago":20210413T235900
DTSTAMP:20210501T112950
CREATED:20210403T050012Z
LAST-MODIFIED:20210401T211259Z
UID:2775-1618358340-1618358340@ose.louisiana.gov
SUMMARY:Jailer
DESCRIPTION:
URL:https://ose.louisiana.gov/event/jailer-9/
END:VEVENT
BEGIN:VEVENT
DTSTART;TZID="America/Chicago":20210413T235900
DTEND;TZID="America/Chicago":20210413T235900
DTSTAMP:20210501T112950
CREATED:20210403T050056Z
LAST-MODIFIED:20210401T211507Z
UID:2777-1618358340-1618358340@ose.louisiana.gov
SUMMARY:Police Sergeant
DESCRIPTION:
URL:https://ose.louisiana.gov/event/police-sergeant-35/
END:VEVENT
END:VCALENDAR