BEGIN:VCALENDAR
VERSION:2.0
PRODID:-//Office of State Examiner - ECPv4.9.8//NONSGML v1.0//EN
CALSCALE:GREGORIAN
METHOD:PUBLISH
X-WR-CALNAME:Office of State Examiner
X-ORIGINAL-URL:https://ose.louisiana.gov
X-WR-CALDESC:Events for Office of State Examiner
BEGIN:VTIMEZONE
TZID:America/Chicago
BEGIN:DAYLIGHT
TZOFFSETFROM:-0600
TZOFFSETTO:-0500
TZNAME:CDT
DTSTART:20210314T080000
END:DAYLIGHT
BEGIN:STANDARD
TZOFFSETFROM:-0500
TZOFFSETTO:-0600
TZNAME:CST
DTSTART:20211107T070000
END:STANDARD
END:VTIMEZONE
BEGIN:VEVENT
DTSTART;TZID="America/Chicago":20210312T235900
DTEND;TZID="America/Chicago":20210312T235900
DTSTAMP:20210607T152447
CREATED:20210218T213343Z
LAST-MODIFIED:20210218T213519Z
UID:2698-1615593540-1615593540@ose.louisiana.gov
SUMMARY:Administrative Assistant to the Fire Chief
DESCRIPTION:
URL:https://ose.louisiana.gov/event/administrative-assistant-to-the-fire-chief-4/
END:VEVENT
END:VCALENDAR