BEGIN:VCALENDAR
VERSION:2.0
PRODID:-//Office of State Examiner - ECPv4.9.8//NONSGML v1.0//EN
CALSCALE:GREGORIAN
METHOD:PUBLISH
X-WR-CALNAME:Office of State Examiner
X-ORIGINAL-URL:https://ose.louisiana.gov
X-WR-CALDESC:Events for Office of State Examiner
BEGIN:VTIMEZONE
TZID:America/Chicago
BEGIN:DAYLIGHT
TZOFFSETFROM:-0600
TZOFFSETTO:-0500
TZNAME:CDT
DTSTART:20200308T080000
END:DAYLIGHT
BEGIN:STANDARD
TZOFFSETFROM:-0500
TZOFFSETTO:-0600
TZNAME:CST
DTSTART:20201101T070000
END:STANDARD
END:VTIMEZONE
BEGIN:VEVENT
DTSTART;TZID="America/Chicago":20200828T235900
DTEND;TZID="America/Chicago":20200829T000000
DTSTAMP:20210522T073456
CREATED:20200819T195147Z
LAST-MODIFIED:20200819T195147Z
UID:2263-1598659140-1598659200@ose.louisiana.gov
SUMMARY:Firefighter/Operator
DESCRIPTION:
URL:https://ose.louisiana.gov/event/firefighter-operator-13/
END:VEVENT
END:VCALENDAR