BEGIN:VCALENDAR
VERSION:2.0
PRODID:-//Office of State Examiner - ECPv4.9.8//NONSGML v1.0//EN
CALSCALE:GREGORIAN
METHOD:PUBLISH
X-WR-CALNAME:Office of State Examiner
X-ORIGINAL-URL:https://ose.louisiana.gov
X-WR-CALDESC:Events for Office of State Examiner
BEGIN:VTIMEZONE
TZID:UTC
BEGIN:STANDARD
TZOFFSETFROM:+0000
TZOFFSETTO:+0000
TZNAME:UTC
DTSTART:20200101T000000
END:STANDARD
END:VTIMEZONE
BEGIN:VEVENT
DTSTART;TZID="UTC":20200123T083000
DTEND;TZID="UTC":20200123T170000
DTSTAMP:20210606T034550
CREATED:20191030T182534Z
LAST-MODIFIED:20191030T182538Z
UID:1701-1579768200-1579798800@ose.louisiana.gov
SUMMARY:Police Officer
DESCRIPTION:
URL:https://ose.louisiana.gov/event/police-officer-19/
END:VEVENT
BEGIN:VEVENT
DTSTART;TZID="UTC":20200123T090000
DTEND;TZID="UTC":20200123T170000
DTSTAMP:20210606T034550
CREATED:20191031T234442Z
LAST-MODIFIED:20191113T033550Z
UID:1724-1579770000-1579798800@ose.louisiana.gov
SUMMARY:Firefighter/Operator
DESCRIPTION:
URL:https://ose.louisiana.gov/event/firefighter-operator-7/
END:VEVENT
BEGIN:VEVENT
DTSTART;TZID="UTC":20200123T093000
DTEND;TZID="UTC":20200123T170000
DTSTAMP:20210606T034550
CREATED:20191030T182406Z
LAST-MODIFIED:20191030T182411Z
UID:1700-1579771800-1579798800@ose.louisiana.gov
SUMMARY:Police Sergeant
DESCRIPTION:
URL:https://ose.louisiana.gov/event/police-sergeant-12/
END:VEVENT
BEGIN:VEVENT
DTSTART;TZID="UTC":20200123T100000
DTEND;TZID="UTC":20200123T170000
DTSTAMP:20210606T034550
CREATED:20191030T190656Z
LAST-MODIFIED:20191113T033715Z
UID:1713-1579773600-1579798800@ose.louisiana.gov
SUMMARY:Assistant Fire Chief
DESCRIPTION:
URL:https://ose.louisiana.gov/event/assistant-fire-chief-11/
END:VEVENT
BEGIN:VEVENT
DTSTART;TZID="UTC":20200123T133000
DTEND;TZID="UTC":20200123T170000
DTSTAMP:20210606T034550
CREATED:20191030T182719Z
LAST-MODIFIED:20191030T182724Z
UID:1702-1579786200-1579798800@ose.louisiana.gov
SUMMARY:Police Communications Officer
DESCRIPTION:
URL:https://ose.louisiana.gov/event/police-communications-officer-5/
END:VEVENT
BEGIN:VEVENT
DTSTART;TZID="UTC":20200123T140000
DTEND;TZID="UTC":20200123T170000
DTSTAMP:20210606T034550
CREATED:20191030T190812Z
LAST-MODIFIED:20191113T033645Z
UID:1714-1579788000-1579798800@ose.louisiana.gov
SUMMARY:Fire Captain
DESCRIPTION:
URL:https://ose.louisiana.gov/event/fire-captain-27/
END:VEVENT
BEGIN:VEVENT
DTSTART;TZID="UTC":20200123T140000
DTEND;TZID="UTC":20200123T170000
DTSTAMP:20210606T034550
CREATED:20191030T191105Z
LAST-MODIFIED:20191113T033620Z
UID:1715-1579788000-1579798800@ose.louisiana.gov
SUMMARY:District Fire Chief
DESCRIPTION:
URL:https://ose.louisiana.gov/event/district-fire-chief-12/
END:VEVENT
END:VCALENDAR