BEGIN:VCALENDAR
VERSION:2.0
PRODID:-//Office of State Examiner - ECPv4.9.8//NONSGML v1.0//EN
CALSCALE:GREGORIAN
METHOD:PUBLISH
X-WR-CALNAME:Office of State Examiner
X-ORIGINAL-URL:https://ose.louisiana.gov
X-WR-CALDESC:Events for Office of State Examiner
BEGIN:VTIMEZONE
TZID:UTC
BEGIN:STANDARD
TZOFFSETFROM:+0000
TZOFFSETTO:+0000
TZNAME:UTC
DTSTART:20200101T000000
END:STANDARD
END:VTIMEZONE
BEGIN:VEVENT
DTSTART;TZID="UTC":20200122T083000
DTEND;TZID="UTC":20200122T170000
DTSTAMP:20210606T034544
CREATED:20191203T222402Z
LAST-MODIFIED:20200102T213630Z
UID:1798-1579681800-1579712400@ose.louisiana.gov
SUMMARY:Firefighter
DESCRIPTION:
URL:https://ose.louisiana.gov/event/firefighter-9/
END:VEVENT
BEGIN:VEVENT
DTSTART;TZID="UTC":20200122T090000
DTEND;TZID="UTC":20200122T170000
DTSTAMP:20210606T034544
CREATED:20191030T183356Z
LAST-MODIFIED:20191030T183400Z
UID:1704-1579683600-1579712400@ose.louisiana.gov
SUMMARY:Assistant Fire Chief
DESCRIPTION:
URL:https://ose.louisiana.gov/event/assistant-fire-chief-10/
END:VEVENT
BEGIN:VEVENT
DTSTART;TZID="UTC":20200122T090000
DTEND;TZID="UTC":20200122T170000
DTSTAMP:20210606T034544
CREATED:20191030T185020Z
LAST-MODIFIED:20191030T185027Z
UID:1705-1579683600-1579712400@ose.louisiana.gov
SUMMARY:Fire Captain
DESCRIPTION:
URL:https://ose.louisiana.gov/event/fire-captain-26/
END:VEVENT
BEGIN:VEVENT
DTSTART;TZID="UTC":20200122T090000
DTEND;TZID="UTC":20200122T170000
DTSTAMP:20210606T034544
CREATED:20191030T185142Z
LAST-MODIFIED:20191030T185146Z
UID:1706-1579683600-1579712400@ose.louisiana.gov
SUMMARY:Police Captain
DESCRIPTION:
URL:https://ose.louisiana.gov/event/police-captain-7/
END:VEVENT
BEGIN:VEVENT
DTSTART;TZID="UTC":20200122T090000
DTEND;TZID="UTC":20200122T170000
DTSTAMP:20210606T034544
CREATED:20191030T185321Z
LAST-MODIFIED:20191030T185325Z
UID:1707-1579683600-1579712400@ose.louisiana.gov
SUMMARY:Police Sergeant
DESCRIPTION:
URL:https://ose.louisiana.gov/event/police-sergeant-13/
END:VEVENT
BEGIN:VEVENT
DTSTART;TZID="UTC":20200122T133000
DTEND;TZID="UTC":20200122T170000
DTSTAMP:20210606T034544
CREATED:20191030T185454Z
LAST-MODIFIED:20191030T185458Z
UID:1708-1579699800-1579712400@ose.louisiana.gov
SUMMARY:District Fire Chief
DESCRIPTION:
URL:https://ose.louisiana.gov/event/district-fire-chief-11/
END:VEVENT
BEGIN:VEVENT
DTSTART;TZID="UTC":20200122T133000
DTEND;TZID="UTC":20200122T170000
DTSTAMP:20210606T034544
CREATED:20191030T185635Z
LAST-MODIFIED:20191030T185639Z
UID:1709-1579699800-1579712400@ose.louisiana.gov
SUMMARY:Firefighter First Class
DESCRIPTION:
URL:https://ose.louisiana.gov/event/firefighter-first-class-4/
END:VEVENT
BEGIN:VEVENT
DTSTART;TZID="UTC":20200122T133000
DTEND;TZID="UTC":20200122T170000
DTSTAMP:20210606T034544
CREATED:20191030T185939Z
LAST-MODIFIED:20191030T185942Z
UID:1710-1579699800-1579712400@ose.louisiana.gov
SUMMARY:Chief of Fire Prevention
DESCRIPTION:
URL:https://ose.louisiana.gov/event/chief-of-fire-prevention-5/
END:VEVENT
BEGIN:VEVENT
DTSTART;TZID="UTC":20200122T133000
DTEND;TZID="UTC":20200122T170000
DTSTAMP:20210606T034544
CREATED:20191030T190219Z
LAST-MODIFIED:20191030T190223Z
UID:1711-1579699800-1579712400@ose.louisiana.gov
SUMMARY:Police Lieutenant
DESCRIPTION:
URL:https://ose.louisiana.gov/event/police-lieutenant-12/
END:VEVENT
BEGIN:VEVENT
DTSTART;TZID="UTC":20200122T133000
DTEND;TZID="UTC":20200122T170000
DTSTAMP:20210606T034544
CREATED:20191203T215855Z
LAST-MODIFIED:20191203T215858Z
UID:1789-1579699800-1579712400@ose.louisiana.gov
SUMMARY:Assistant Police Chief
DESCRIPTION:
URL:https://ose.louisiana.gov/event/assistant-police-chief-2/
END:VEVENT
BEGIN:VEVENT
DTSTART;TZID="UTC":20200122T133000
DTEND;TZID="UTC":20200122T170000
DTSTAMP:20210606T034544
CREATED:20191203T223235Z
LAST-MODIFIED:20200102T213708Z
UID:1800-1579699800-1579712400@ose.louisiana.gov
SUMMARY:Fire Prevention Officer
DESCRIPTION:
URL:https://ose.louisiana.gov/event/fire-prevention-officer-5/
END:VEVENT
END:VCALENDAR