BEGIN:VCALENDAR
VERSION:2.0
PRODID:-//Office of State Examiner - ECPv4.9.8//NONSGML v1.0//EN
CALSCALE:GREGORIAN
METHOD:PUBLISH
X-WR-CALNAME:Office of State Examiner
X-ORIGINAL-URL:https://ose.louisiana.gov
X-WR-CALDESC:Events for Office of State Examiner
BEGIN:VTIMEZONE
TZID:UTC
BEGIN:STANDARD
TZOFFSETFROM:+0000
TZOFFSETTO:+0000
TZNAME:UTC
DTSTART:20200101T000000
END:STANDARD
END:VTIMEZONE
BEGIN:VEVENT
DTSTART;TZID="UTC":20200121T090000
DTEND;TZID="UTC":20200121T170000
DTSTAMP:20210606T034539
CREATED:20191025T190654Z
LAST-MODIFIED:20191025T190658Z
UID:1673-1579597200-1579626000@ose.louisiana.gov
SUMMARY:Fire Prevention Chief
DESCRIPTION:
URL:https://ose.louisiana.gov/event/fire-prevention-chief-3/
END:VEVENT
BEGIN:VEVENT
DTSTART;TZID="UTC":20200121T090000
DTEND;TZID="UTC":20200121T170000
DTSTAMP:20210606T034539
CREATED:20191025T190933Z
LAST-MODIFIED:20191025T190959Z
UID:1674-1579597200-1579626000@ose.louisiana.gov
SUMMARY:Fire Records Clerk
DESCRIPTION:
URL:https://ose.louisiana.gov/event/fire-records-clerk-5/
END:VEVENT
BEGIN:VEVENT
DTSTART;TZID="UTC":20200121T133000
DTEND;TZID="UTC":20200121T170000
DTSTAMP:20210606T034539
CREATED:20191025T191321Z
LAST-MODIFIED:20191025T191326Z
UID:1675-1579613400-1579626000@ose.louisiana.gov
SUMMARY:Police Criminal Information Specialist I
DESCRIPTION:
URL:https://ose.louisiana.gov/event/police-criminal-information-specialist-i/
END:VEVENT
BEGIN:VEVENT
DTSTART;TZID="UTC":20200121T133000
DTEND;TZID="UTC":20200121T170000
DTSTAMP:20210606T034539
CREATED:20191025T195454Z
LAST-MODIFIED:20191206T034628Z
UID:1688-1579613400-1579626000@ose.louisiana.gov
SUMMARY:Fire Communications Officer
DESCRIPTION:
URL:https://ose.louisiana.gov/event/fire-communications-officer-5/
END:VEVENT
END:VCALENDAR