BEGIN:VCALENDAR
VERSION:2.0
PRODID:-//Office of State Examiner - ECPv4.9.8//NONSGML v1.0//EN
CALSCALE:GREGORIAN
METHOD:PUBLISH
X-WR-CALNAME:Office of State Examiner
X-ORIGINAL-URL:https://ose.louisiana.gov
X-WR-CALDESC:Events for Office of State Examiner
BEGIN:VTIMEZONE
TZID:UTC
BEGIN:STANDARD
TZOFFSETFROM:+0000
TZOFFSETTO:+0000
TZNAME:UTC
DTSTART:20190101T000000
END:STANDARD
END:VTIMEZONE
BEGIN:VEVENT
DTSTART;TZID="UTC":20191212T080000
DTEND;TZID="UTC":20191212T170000
DTSTAMP:20210607T152651
CREATED:20190925T002005Z
LAST-MODIFIED:20191004T010041Z
UID:1509-1576137600-1576170000@ose.louisiana.gov
SUMMARY:Firefighter
DESCRIPTION:
URL:https://ose.louisiana.gov/event/firefighter/
END:VEVENT
BEGIN:VEVENT
DTSTART;TZID="UTC":20191212T080000
DTEND;TZID="UTC":20191212T170000
DTSTAMP:20210607T152651
CREATED:20190925T002354Z
LAST-MODIFIED:20190925T002354Z
UID:1510-1576137600-1576170000@ose.louisiana.gov
SUMMARY:Fire Engineer
DESCRIPTION:
URL:https://ose.louisiana.gov/event/fire-engineer-3/
END:VEVENT
BEGIN:VEVENT
DTSTART;TZID="UTC":20191212T083000
DTEND;TZID="UTC":20191212T170000
DTSTAMP:20210607T152651
CREATED:20191004T200037Z
LAST-MODIFIED:20191004T200037Z
UID:1577-1576139400-1576170000@ose.louisiana.gov
SUMMARY:Police Officer
DESCRIPTION:
URL:https://ose.louisiana.gov/event/police-officer-15/
END:VEVENT
BEGIN:VEVENT
DTSTART;TZID="UTC":20191212T093000
DTEND;TZID="UTC":20191212T170000
DTSTAMP:20210607T152651
CREATED:20191004T195230Z
LAST-MODIFIED:20191004T195235Z
UID:1574-1576143000-1576170000@ose.louisiana.gov
SUMMARY:Assistant Fire Chief
DESCRIPTION:
URL:https://ose.louisiana.gov/event/assistant-fire-chief-8/
END:VEVENT
BEGIN:VEVENT
DTSTART;TZID="UTC":20191212T093000
DTEND;TZID="UTC":20191212T170000
DTSTAMP:20210607T152651
CREATED:20191025T200009Z
LAST-MODIFIED:20191025T200013Z
UID:1689-1576143000-1576170000@ose.louisiana.gov
SUMMARY:Police Officer
DESCRIPTION:
URL:https://ose.louisiana.gov/event/police-officer-10/
END:VEVENT
BEGIN:VEVENT
DTSTART;TZID="UTC":20191212T133000
DTEND;TZID="UTC":20191212T170000
DTSTAMP:20210607T152651
CREATED:20191004T195926Z
LAST-MODIFIED:20191004T195926Z
UID:1576-1576157400-1576170000@ose.louisiana.gov
SUMMARY:Police Communications Officer
DESCRIPTION:
URL:https://ose.louisiana.gov/event/police-communications-officer-9/
END:VEVENT
END:VCALENDAR