BEGIN:VCALENDAR
VERSION:2.0
PRODID:-//Office of State Examiner - ECPv4.9.8//NONSGML v1.0//EN
CALSCALE:GREGORIAN
METHOD:PUBLISH
X-WR-CALNAME:Office of State Examiner
X-ORIGINAL-URL:https://ose.louisiana.gov
X-WR-CALDESC:Events for Office of State Examiner
BEGIN:VTIMEZONE
TZID:UTC
BEGIN:STANDARD
TZOFFSETFROM:+0000
TZOFFSETTO:+0000
TZNAME:UTC
DTSTART:20190101T000000
END:STANDARD
END:VTIMEZONE
BEGIN:VEVENT
DTSTART;VALUE=DATE:20190910
DTEND;VALUE=DATE:20190911
DTSTAMP:20210617T170907
CREATED:20190813T231525Z
LAST-MODIFIED:20190905T195713Z
UID:1153-1568073600-1568159999@ose.louisiana.gov
SUMMARY:Fire Captain
DESCRIPTION:
URL:https://ose.louisiana.gov/event/fire-captain-5/
END:VEVENT
BEGIN:VEVENT
DTSTART;VALUE=DATE:20190910
DTEND;VALUE=DATE:20190911
DTSTAMP:20210617T170907
CREATED:20190813T232140Z
LAST-MODIFIED:20190904T215041Z
UID:1154-1568073600-1568159999@ose.louisiana.gov
SUMMARY:Fire Equipment Operator
DESCRIPTION:
URL:https://ose.louisiana.gov/event/fire-equipment-operator/
END:VEVENT
BEGIN:VEVENT
DTSTART;VALUE=DATE:20190910
DTEND;VALUE=DATE:20190911
DTSTAMP:20210617T170907
CREATED:20190813T232827Z
LAST-MODIFIED:20190904T203641Z
UID:1155-1568073600-1568159999@ose.louisiana.gov
SUMMARY:Firefighter
DESCRIPTION:
URL:https://ose.louisiana.gov/event/firefighter-2/
END:VEVENT
BEGIN:VEVENT
DTSTART;VALUE=DATE:20190910
DTEND;VALUE=DATE:20190911
DTSTAMP:20210617T170907
CREATED:20190813T233126Z
LAST-MODIFIED:20190904T205430Z
UID:1158-1568073600-1568159999@ose.louisiana.gov
SUMMARY:Fire Captain
DESCRIPTION:
URL:https://ose.louisiana.gov/event/fire-captain-6/
END:VEVENT
BEGIN:VEVENT
DTSTART;TZID="UTC":20190910T080000
DTEND;TZID="UTC":20190910T170000
DTSTAMP:20210617T170907
CREATED:20190813T233018Z
LAST-MODIFIED:20190904T205449Z
UID:1157-1568102400-1568134800@ose.louisiana.gov
SUMMARY:Fire Chief
DESCRIPTION:
URL:https://ose.louisiana.gov/event/fire-chief/
END:VEVENT
END:VCALENDAR