BEGIN:VCALENDAR
VERSION:2.0
PRODID:-//Office of State Examiner - ECPv4.9.8//NONSGML v1.0//EN
CALSCALE:GREGORIAN
METHOD:PUBLISH
X-WR-CALNAME:Office of State Examiner
X-ORIGINAL-URL:https://ose.louisiana.gov
X-WR-CALDESC:Events for Office of State Examiner
BEGIN:VTIMEZONE
TZID:UTC
BEGIN:STANDARD
TZOFFSETFROM:+0000
TZOFFSETTO:+0000
TZNAME:UTC
DTSTART:20190101T000000
END:STANDARD
END:VTIMEZONE
BEGIN:VEVENT
DTSTART;VALUE=DATE:20190822
DTEND;VALUE=DATE:20190823
DTSTAMP:20210621T013817
CREATED:20190813T203130Z
LAST-MODIFIED:20190904T213633Z
UID:1108-1566432000-1566518399@ose.louisiana.gov
SUMMARY:Police Records Clerk
DESCRIPTION:
URL:https://ose.louisiana.gov/event/police-records-clerk/
END:VEVENT
BEGIN:VEVENT
DTSTART;VALUE=DATE:20190822
DTEND;VALUE=DATE:20190823
DTSTAMP:20210621T013817
CREATED:20190813T203750Z
LAST-MODIFIED:20190904T215941Z
UID:1109-1566432000-1566518399@ose.louisiana.gov
SUMMARY:Police Records Clerk
DESCRIPTION:
URL:https://ose.louisiana.gov/event/police-records-clerk-2/
END:VEVENT
BEGIN:VEVENT
DTSTART;VALUE=DATE:20190822
DTEND;VALUE=DATE:20190823
DTSTAMP:20210621T013817
CREATED:20190813T203841Z
LAST-MODIFIED:20190904T215927Z
UID:1110-1566432000-1566518399@ose.louisiana.gov
SUMMARY:Police Officer
DESCRIPTION:
URL:https://ose.louisiana.gov/event/police-officer-2/
END:VEVENT
BEGIN:VEVENT
DTSTART;VALUE=DATE:20190822
DTEND;VALUE=DATE:20190823
DTSTAMP:20210621T013817
CREATED:20190813T203943Z
LAST-MODIFIED:20190904T214721Z
UID:1111-1566432000-1566518399@ose.louisiana.gov
SUMMARY:Police Lieutenant
DESCRIPTION:
URL:https://ose.louisiana.gov/event/police-lieutenant/
END:VEVENT
BEGIN:VEVENT
DTSTART;VALUE=DATE:20190822
DTEND;VALUE=DATE:20190823
DTSTAMP:20210621T013817
CREATED:20190813T204043Z
LAST-MODIFIED:20190904T214707Z
UID:1112-1566432000-1566518399@ose.louisiana.gov
SUMMARY:Assistant Police Chief
DESCRIPTION:
URL:https://ose.louisiana.gov/event/assistant-police-chief/
END:VEVENT
BEGIN:VEVENT
DTSTART;VALUE=DATE:20190822
DTEND;VALUE=DATE:20190823
DTSTAMP:20210621T013817
CREATED:20190813T204417Z
LAST-MODIFIED:20190904T214232Z
UID:1113-1566432000-1566518399@ose.louisiana.gov
SUMMARY:Jailer II
DESCRIPTION:
URL:https://ose.louisiana.gov/event/jailer-ii/
END:VEVENT
BEGIN:VEVENT
DTSTART;VALUE=DATE:20190822
DTEND;VALUE=DATE:20190823
DTSTAMP:20210621T013817
CREATED:20190813T204611Z
LAST-MODIFIED:20190904T214219Z
UID:1114-1566432000-1566518399@ose.louisiana.gov
SUMMARY:Jailer III
DESCRIPTION:
URL:https://ose.louisiana.gov/event/jailer-iii/
END:VEVENT
END:VCALENDAR